BEGIN:VCALENDAR
VERSION:2.0
PRODID:-//Central Missouri Foster Care &amp; Adoption Association - ECPv6.15.12.2//NONSGML v1.0//EN
CALSCALE:GREGORIAN
METHOD:PUBLISH
X-ORIGINAL-URL:https://mofosteradopt.com
X-WR-CALDESC:Events for Central Missouri Foster Care &amp; Adoption Association
REFRESH-INTERVAL;VALUE=DURATION:PT1H
X-Robots-Tag:noindex
X-PUBLISHED-TTL:PT1H
BEGIN:VTIMEZONE
TZID:America/Chicago
BEGIN:DAYLIGHT
TZOFFSETFROM:-0600
TZOFFSETTO:-0500
TZNAME:CDT
DTSTART:20230312T080000
END:DAYLIGHT
BEGIN:STANDARD
TZOFFSETFROM:-0500
TZOFFSETTO:-0600
TZNAME:CST
DTSTART:20231105T070000
END:STANDARD
BEGIN:DAYLIGHT
TZOFFSETFROM:-0600
TZOFFSETTO:-0500
TZNAME:CDT
DTSTART:20240310T080000
END:DAYLIGHT
BEGIN:STANDARD
TZOFFSETFROM:-0500
TZOFFSETTO:-0600
TZNAME:CST
DTSTART:20241103T070000
END:STANDARD
BEGIN:DAYLIGHT
TZOFFSETFROM:-0600
TZOFFSETTO:-0500
TZNAME:CDT
DTSTART:20250309T080000
END:DAYLIGHT
BEGIN:STANDARD
TZOFFSETFROM:-0500
TZOFFSETTO:-0600
TZNAME:CST
DTSTART:20251102T070000
END:STANDARD
END:VTIMEZONE
BEGIN:VEVENT
DTSTART;TZID=America/Chicago:20240122T080000
DTEND;TZID=America/Chicago:20240122T110000
DTSTAMP:20260423T012649
CREATED:20231221T170314Z
LAST-MODIFIED:20231221T172817Z
UID:6538-1705910400-1705921200@mofosteradopt.com
SUMMARY:Tabling at: Boone County WIC
DESCRIPTION:
URL:https://mofosteradopt.com/event/boone-county-wic/
LOCATION:Boone County WIC Office\, 1005 W. Worley St.\, Columbia\, MO\, United States
END:VEVENT
BEGIN:VEVENT
DTSTART;TZID=America/Chicago:20240122T100000
DTEND;TZID=America/Chicago:20240122T123000
DTSTAMP:20260423T012649
CREATED:20231221T171258Z
LAST-MODIFIED:20231221T171258Z
UID:6545-1705917600-1705926600@mofosteradopt.com
SUMMARY:2024 Non-Profit Roundtable
DESCRIPTION:
URL:https://mofosteradopt.com/event/2024-non-profit-roundtable/
LOCATION:Grace Community Church
END:VEVENT
BEGIN:VEVENT
DTSTART;TZID=America/Chicago:20240122T110000
DTEND;TZID=America/Chicago:20240122T130000
DTSTAMP:20260423T012649
CREATED:20231221T171121Z
LAST-MODIFIED:20231221T171121Z
UID:6543-1705921200-1705928400@mofosteradopt.com
SUMMARY:Unity in the Community Coalition Meeting
DESCRIPTION:
URL:https://mofosteradopt.com/event/unity-in-the-community-coalition-meeting/
LOCATION:MO
END:VEVENT
END:VCALENDAR