BEGIN:VCALENDAR
VERSION:2.0
PRODID:-//Central Missouri Foster Care &amp; Adoption Association - ECPv6.15.12.2//NONSGML v1.0//EN
CALSCALE:GREGORIAN
METHOD:PUBLISH
X-ORIGINAL-URL:https://mofosteradopt.com
X-WR-CALDESC:Events for Central Missouri Foster Care &amp; Adoption Association
REFRESH-INTERVAL;VALUE=DURATION:PT1H
X-Robots-Tag:noindex
X-PUBLISHED-TTL:PT1H
BEGIN:VTIMEZONE
TZID:America/Chicago
BEGIN:DAYLIGHT
TZOFFSETFROM:-0600
TZOFFSETTO:-0500
TZNAME:CDT
DTSTART:20230312T080000
END:DAYLIGHT
BEGIN:STANDARD
TZOFFSETFROM:-0500
TZOFFSETTO:-0600
TZNAME:CST
DTSTART:20231105T070000
END:STANDARD
BEGIN:DAYLIGHT
TZOFFSETFROM:-0600
TZOFFSETTO:-0500
TZNAME:CDT
DTSTART:20240310T080000
END:DAYLIGHT
BEGIN:STANDARD
TZOFFSETFROM:-0500
TZOFFSETTO:-0600
TZNAME:CST
DTSTART:20241103T070000
END:STANDARD
BEGIN:DAYLIGHT
TZOFFSETFROM:-0600
TZOFFSETTO:-0500
TZNAME:CDT
DTSTART:20250309T080000
END:DAYLIGHT
BEGIN:STANDARD
TZOFFSETFROM:-0500
TZOFFSETTO:-0600
TZNAME:CST
DTSTART:20251102T070000
END:STANDARD
END:VTIMEZONE
BEGIN:VEVENT
DTSTART;TZID=America/Chicago:20241019T090000
DTEND;TZID=America/Chicago:20241019T160000
DTSTAMP:20260424T154506
CREATED:20240417T151144Z
LAST-MODIFIED:20240417T151144Z
UID:7382-1729328400-1729353600@mofosteradopt.com
SUMMARY:CPR Class - Rolla (Please call in to reserve a seat)
DESCRIPTION:
URL:https://mofosteradopt.com/event/cpr-class-rolla-please-call-in-to-reserve-a-seat-5/
LOCATION:Jefferson City Office (Please call to reserve a seat in class)\, 1704 Christy Ct\, Jefferson City\, MO\, 65101\, United States
END:VEVENT
BEGIN:VEVENT
DTSTART;TZID=America/Chicago:20241019T110000
DTEND;TZID=America/Chicago:20241019T150000
DTSTAMP:20260424T154506
CREATED:20240913T160345Z
LAST-MODIFIED:20240913T160345Z
UID:8074-1729335600-1729350000@mofosteradopt.com
SUMMARY:Montgomery Family Event-Respite
DESCRIPTION:You and your family are invited to a fall-themed family day in Montgomery County on October 19\, 2024. This is a respite event\, where you can enjoy outdoor Fall activities and bonding with your loved ones and other families. We hope you can join us for this fun-filled day. We would like to emphasize that this is an all-ages family event. Please note that this is not a drop-off event\, so all children must be accompanied by an adult. More details will be available after sign in.
URL:https://mofosteradopt.com/event/montgomery-family-event-respite/
LOCATION:MO
END:VEVENT
END:VCALENDAR